BEGIN:VCALENDAR
PRODID:-//github.com/rianjs/ical.net//NONSGML ical.net 4.0//EN
VERSION:2.0
BEGIN:VTIMEZONE
TZID:Eastern Standard Time
X-LIC-LOCATION:America/New_York
BEGIN:STANDARD
DTSTART:20241103T020000
RRULE:FREQ=YEARLY;BYDAY=1SU;BYMONTH=11
TZNAME:EST
TZOFFSETFROM:-0400
TZOFFSETTO:-0500
END:STANDARD
BEGIN:DAYLIGHT
DTSTART:20250309T020000
RRULE:FREQ=YEARLY;BYDAY=2SU;BYMONTH=3
TZNAME:EDT
TZOFFSETFROM:-0500
TZOFFSETTO:-0400
END:DAYLIGHT
END:VTIMEZONE
BEGIN:VEVENT
DESCRIPTION:2019 Annual Meeting by the American Academy of Neurology\n\nTi
 tle: Neuro Exam Tricks and Tips\n\nAccess URL: https://www.aan.com/msa/Pu
 blic/Events/GetEventURL/7782\n\nLearn More About This Event: https://www.
 aan.com/msa/Public/Events/Details/7782
DTEND;TZID=Eastern Standard Time:20190507T143000
DTSTAMP:20260424T053921Z
DTSTART;TZID=Eastern Standard Time:20190507T133000
LOCATION:https://www.aan.com/msa/Public/Events/GetEventURL/7782
SEQUENCE:0
SUMMARY:AAN: Neuro Exam Tricks and Tips
UID:5f0fcc92-c108-4911-8278-ff588397a3ef
END:VEVENT
END:VCALENDAR
