BEGIN:VCALENDAR
PRODID:-//github.com/rianjs/ical.net//NONSGML ical.net 4.0//EN
VERSION:2.0
BEGIN:VTIMEZONE
TZID:Eastern Standard Time
X-LIC-LOCATION:America/New_York
BEGIN:STANDARD
DTSTART:20241103T020000
RRULE:FREQ=YEARLY;BYDAY=1SU;BYMONTH=11
TZNAME:EST
TZOFFSETFROM:-0400
TZOFFSETTO:-0500
END:STANDARD
BEGIN:DAYLIGHT
DTSTART:20250309T020000
RRULE:FREQ=YEARLY;BYDAY=2SU;BYMONTH=3
TZNAME:EDT
TZOFFSETFROM:-0500
TZOFFSETTO:-0400
END:DAYLIGHT
END:VTIMEZONE
BEGIN:VEVENT
DESCRIPTION:2019 Annual Meeting by the American Academy of Neurology\n\nTi
 tle: Is There a Neurologist in the Stands?\n\nAccess URL: https://www.aan
 .com/msa/Public/Events/GetEventURL/7789\n\nLearn More About This Event: h
 ttps://www.aan.com/msa/Public/Events/Details/7789
DTEND;TZID=Eastern Standard Time:20190508T170000
DTSTAMP:20260424T053956Z
DTSTART;TZID=Eastern Standard Time:20190508T161500
LOCATION:https://www.aan.com/msa/Public/Events/GetEventURL/7789
SEQUENCE:0
SUMMARY:AAN: Is There a Neurologist in the Stands?
UID:dc0ca7fe-0002-4426-a885-5cd5902c103e
END:VEVENT
END:VCALENDAR
