BEGIN:VCALENDAR
PRODID:-//github.com/rianjs/ical.net//NONSGML ical.net 4.0//EN
VERSION:2.0
BEGIN:VEVENT
DESCRIPTION:2006 Annual Meeting by the American Academy of Neurology\n\nTi
 tle: NINDS/AAN Clinical Research Collaboration Colloquium: Time for Every
 one to Get Involved\n\nAccess URL: https://www.aan.com/msa/Public/Events/
 GetEventURL/779\n\nLearn More About This Event: https://www.aan.com/msa/P
 ublic/Events/Details/779
DTEND:20060404T170000
DTSTAMP:20260424T122036Z
DTSTART:20060404T130000
LOCATION:https://www.aan.com/msa/Public/Events/GetEventURL/779
SEQUENCE:0
SUMMARY:AAN: NINDS/AAN Clinical Research Collaboration Colloquium: Time fo
 r Everyone to Get Involved
UID:70140a6b-75a6-44a8-8ad2-2ae8d378c027
END:VEVENT
END:VCALENDAR
