BEGIN:VCALENDAR
PRODID:-//github.com/rianjs/ical.net//NONSGML ical.net 4.0//EN
VERSION:2.0
BEGIN:VTIMEZONE
TZID:Eastern Standard Time
X-LIC-LOCATION:America/New_York
BEGIN:STANDARD
DTSTART:20241103T020000
RRULE:FREQ=YEARLY;BYDAY=1SU;BYMONTH=11
TZNAME:EST
TZOFFSETFROM:-0400
TZOFFSETTO:-0500
END:STANDARD
BEGIN:DAYLIGHT
DTSTART:20250309T020000
RRULE:FREQ=YEARLY;BYDAY=2SU;BYMONTH=3
TZNAME:EDT
TZOFFSETFROM:-0500
TZOFFSETTO:-0400
END:DAYLIGHT
END:VTIMEZONE
BEGIN:VEVENT
DESCRIPTION:2019 Annual Meeting by the American Academy of Neurology\n\nTi
 tle: Standing on the Shoulders of Giants\n\nAccess URL: https://www.aan.c
 om/msa/Public/Events/GetEventURL/7790\n\nLearn More About This Event: htt
 ps://www.aan.com/msa/Public/Events/Details/7790
DTEND;TZID=Eastern Standard Time;VALUE=DATE:20190508
DTSTAMP:20260424T072307Z
DTSTART;TZID=Eastern Standard Time;VALUE=DATE:20190507
LOCATION:https://www.aan.com/msa/Public/Events/GetEventURL/7790
SEQUENCE:0
SUMMARY:AAN: Standing on the Shoulders of Giants
UID:931bc23f-9133-42d1-9b10-9b793db3ff05
END:VEVENT
END:VCALENDAR
