BEGIN:VCALENDAR
PRODID:-//github.com/rianjs/ical.net//NONSGML ical.net 4.0//EN
VERSION:2.0
BEGIN:VTIMEZONE
TZID:Eastern Standard Time
X-LIC-LOCATION:America/New_York
BEGIN:STANDARD
DTSTART:20241103T020000
RRULE:FREQ=YEARLY;BYDAY=1SU;BYMONTH=11
TZNAME:EST
TZOFFSETFROM:-0400
TZOFFSETTO:-0500
END:STANDARD
BEGIN:DAYLIGHT
DTSTART:20250309T020000
RRULE:FREQ=YEARLY;BYDAY=2SU;BYMONTH=3
TZNAME:EDT
TZOFFSETFROM:-0500
TZOFFSETTO:-0400
END:DAYLIGHT
END:VTIMEZONE
BEGIN:VEVENT
DESCRIPTION:2019 Annual Meeting by the American Academy of Neurology\n\nTi
 tle: NeuroZone\n\nAccess URL: https://www.aan.com/msa/Public/Events/GetEv
 entURL/7798\n\nLearn More About This Event: https://www.aan.com/msa/Publi
 c/Events/Details/7798
DTEND;TZID=Eastern Standard Time:20190510T173000
DTSTAMP:20260424T053924Z
DTSTART;TZID=Eastern Standard Time:20190510T163000
LOCATION:https://www.aan.com/msa/Public/Events/GetEventURL/7798
SEQUENCE:0
SUMMARY:AAN: NeuroZone
UID:048ac973-a1a8-4577-8a0e-914193ca607a
END:VEVENT
END:VCALENDAR
