BEGIN:VCALENDAR
PRODID:-//github.com/rianjs/ical.net//NONSGML ical.net 4.0//EN
VERSION:2.0
BEGIN:VEVENT
DESCRIPTION:2016 Fall Conference by the American Academy of Neurology\n\nT
 itle: Neurology Update III\n\nAccess URL: https://www.aan.com/msa/Public/
 Events/GetEventURL/78\n\nLearn More About This Event: https://www.aan.com
 /msa/Public/Events/Details/78
DTEND:20161015T093000
DTSTAMP:20260424T053927Z
DTSTART:20161015T080000
LOCATION:https://www.aan.com/msa/Public/Events/GetEventURL/78
SEQUENCE:0
SUMMARY:AAN: Neurology Update III
UID:84667775-ef26-46c6-9950-7d7a9b935bb3
END:VEVENT
END:VCALENDAR
