BEGIN:VCALENDAR
PRODID:-//github.com/rianjs/ical.net//NONSGML ical.net 4.0//EN
VERSION:2.0
BEGIN:VEVENT
DESCRIPTION:2006 Annual Meeting by the American Academy of Neurology\n\nTi
 tle: Neuromuscular\, EMG\, and Autonomic Disorders Scientific Topic Highl
 ights\n\nAccess URL: https://www.aan.com/msa/Public/Events/GetEventURL/78
 0\n\nLearn More About This Event: https://www.aan.com/msa/Public/Events/D
 etails/780
DTEND:20060406T190000
DTSTAMP:20260424T121915Z
DTSTART:20060406T180000
LOCATION:https://www.aan.com/msa/Public/Events/GetEventURL/780
SEQUENCE:0
SUMMARY:AAN: Neuromuscular\, EMG\, and Autonomic Disorders Scientific Topi
 c Highlights
UID:a357e87c-bf05-45a8-8e21-f291ba55314c
END:VEVENT
END:VCALENDAR
