BEGIN:VCALENDAR
PRODID:-//github.com/rianjs/ical.net//NONSGML ical.net 4.0//EN
VERSION:2.0
BEGIN:VTIMEZONE
TZID:Eastern Standard Time
X-LIC-LOCATION:America/New_York
BEGIN:STANDARD
DTSTART:20241103T020000
RRULE:FREQ=YEARLY;BYDAY=1SU;BYMONTH=11
TZNAME:EST
TZOFFSETFROM:-0400
TZOFFSETTO:-0500
END:STANDARD
BEGIN:DAYLIGHT
DTSTART:20250309T020000
RRULE:FREQ=YEARLY;BYDAY=2SU;BYMONTH=3
TZNAME:EDT
TZOFFSETFROM:-0500
TZOFFSETTO:-0400
END:DAYLIGHT
END:VTIMEZONE
BEGIN:VEVENT
DESCRIPTION:2019 Annual Meeting by the American Academy of Neurology\n\nTi
 tle: Nutrition\, Lifestyle\, and Neuropathic Pain\n\nAccess URL: https://
 www.aan.com/msa/Public/Events/GetEventURL/7808\n\nLearn More About This E
 vent: https://www.aan.com/msa/Public/Events/Details/7808
DTEND;TZID=Eastern Standard Time:20190506T163000
DTSTAMP:20260424T054036Z
DTSTART;TZID=Eastern Standard Time:20190506T154500
LOCATION:https://www.aan.com/msa/Public/Events/GetEventURL/7808
SEQUENCE:0
SUMMARY:AAN: Nutrition\, Lifestyle\, and Neuropathic Pain
UID:2c56e5c2-d4a0-402f-964f-64a0305f41e4
END:VEVENT
END:VCALENDAR
