BEGIN:VCALENDAR
PRODID:-//github.com/rianjs/ical.net//NONSGML ical.net 4.0//EN
VERSION:2.0
BEGIN:VEVENT
DESCRIPTION:2006 Annual Meeting by the American Academy of Neurology\n\nTi
 tle: Aging and Dementia: Mild Cognitive Impairment\n\nAccess URL: https:/
 /www.aan.com/msa/Public/Events/GetEventURL/781\n\nLearn More About This E
 vent: https://www.aan.com/msa/Public/Events/Details/781
DTEND:20060404T153000
DTSTAMP:20260424T121917Z
DTSTART:20060404T140000
LOCATION:https://www.aan.com/msa/Public/Events/GetEventURL/781
SEQUENCE:0
SUMMARY:AAN: Aging and Dementia: Mild Cognitive Impairment
UID:79c0fbfd-b87d-479b-84e3-c1a9e3405398
END:VEVENT
END:VCALENDAR
