BEGIN:VCALENDAR
PRODID:-//github.com/rianjs/ical.net//NONSGML ical.net 4.0//EN
VERSION:2.0
BEGIN:VEVENT
DESCRIPTION:2006 Annual Meeting by the American Academy of Neurology\n\nTi
 tle: Multiple Sclerosis: Clinical Trials I\n\nAccess URL: https://www.aan
 .com/msa/Public/Events/GetEventURL/782\n\nLearn More About This Event: ht
 tps://www.aan.com/msa/Public/Events/Details/782
DTEND:20060404T153000
DTSTAMP:20260424T121915Z
DTSTART:20060404T140000
LOCATION:https://www.aan.com/msa/Public/Events/GetEventURL/782
SEQUENCE:0
SUMMARY:AAN: Multiple Sclerosis: Clinical Trials I
UID:1263d014-56fc-416a-b468-9d18fce189ce
END:VEVENT
END:VCALENDAR
