BEGIN:VCALENDAR
PRODID:-//github.com/rianjs/ical.net//NONSGML ical.net 4.0//EN
VERSION:2.0
BEGIN:VTIMEZONE
TZID:Eastern Standard Time
X-LIC-LOCATION:America/New_York
BEGIN:STANDARD
DTSTART:20241103T020000
RRULE:FREQ=YEARLY;BYDAY=1SU;BYMONTH=11
TZNAME:EST
TZOFFSETFROM:-0400
TZOFFSETTO:-0500
END:STANDARD
BEGIN:DAYLIGHT
DTSTART:20250309T020000
RRULE:FREQ=YEARLY;BYDAY=2SU;BYMONTH=3
TZNAME:EDT
TZOFFSETFROM:-0500
TZOFFSETTO:-0400
END:DAYLIGHT
END:VTIMEZONE
BEGIN:VEVENT
DESCRIPTION:2019 Annual Meeting by the American Academy of Neurology\n\nTi
 tle: Lost Connections:  From Functional Connectivity to Needs in Pain and
  Palliative Care\n\nAccess URL: https://www.aan.com/msa/Public/Events/Get
 EventURL/7841\n\nLearn More About This Event: https://www.aan.com/msa/Pub
 lic/Events/Details/7841
DTEND;TZID=Eastern Standard Time:20190507T140000
DTSTAMP:20260424T054003Z
DTSTART;TZID=Eastern Standard Time:20190507T130000
LOCATION:https://www.aan.com/msa/Public/Events/GetEventURL/7841
SEQUENCE:0
SUMMARY:AAN: Lost Connections:  From Functional Connectivity to Needs in P
 ain and Palliative Care
UID:8abd9faf-d244-4bb2-ac09-589a6dc15f85
END:VEVENT
END:VCALENDAR
