BEGIN:VCALENDAR
PRODID:-//github.com/rianjs/ical.net//NONSGML ical.net 4.0//EN
VERSION:2.0
BEGIN:VTIMEZONE
TZID:Eastern Standard Time
X-LIC-LOCATION:America/New_York
BEGIN:STANDARD
DTSTART:20241103T020000
RRULE:FREQ=YEARLY;BYDAY=1SU;BYMONTH=11
TZNAME:EST
TZOFFSETFROM:-0400
TZOFFSETTO:-0500
END:STANDARD
BEGIN:DAYLIGHT
DTSTART:20250309T020000
RRULE:FREQ=YEARLY;BYDAY=2SU;BYMONTH=3
TZNAME:EDT
TZOFFSETFROM:-0500
TZOFFSETTO:-0400
END:DAYLIGHT
END:VTIMEZONE
BEGIN:VEVENT
DESCRIPTION:2019 Annual Meeting by the American Academy of Neurology\n\nTi
 tle: General Neurology: Improving Neurologic Care and the Impact of Thera
 peutics\n\nAccess URL: https://www.aan.com/msa/Public/Events/GetEventURL/
 7844\n\nLearn More About This Event: https://www.aan.com/msa/Public/Event
 s/Details/7844
DTEND;TZID=Eastern Standard Time:20190507T150000
DTSTAMP:20260424T053954Z
DTSTART;TZID=Eastern Standard Time:20190507T130000
LOCATION:https://www.aan.com/msa/Public/Events/GetEventURL/7844
SEQUENCE:0
SUMMARY:AAN: General Neurology: Improving Neurologic Care and the Impact o
 f Therapeutics
UID:52e27205-57b1-4b47-be43-47a13cff4695
END:VEVENT
END:VCALENDAR
