BEGIN:VCALENDAR
PRODID:-//github.com/rianjs/ical.net//NONSGML ical.net 4.0//EN
VERSION:2.0
BEGIN:VEVENT
DESCRIPTION:2006 Annual Meeting by the American Academy of Neurology\n\nTi
 tle: Clinical Neurophysiology: Surgical Monitoring\n\nAccess URL: https:/
 /www.aan.com/msa/Public/Events/GetEventURL/786\n\nLearn More About This E
 vent: https://www.aan.com/msa/Public/Events/Details/786
DTEND:20060404T153000
DTSTAMP:20260424T122035Z
DTSTART:20060404T140000
LOCATION:https://www.aan.com/msa/Public/Events/GetEventURL/786
SEQUENCE:0
SUMMARY:AAN: Clinical Neurophysiology: Surgical Monitoring
UID:150319d0-d21e-4c6b-a268-b6ea4153e43e
END:VEVENT
END:VCALENDAR
