BEGIN:VCALENDAR
PRODID:-//github.com/rianjs/ical.net//NONSGML ical.net 4.0//EN
VERSION:2.0
BEGIN:VTIMEZONE
TZID:Eastern Standard Time
X-LIC-LOCATION:America/New_York
BEGIN:STANDARD
DTSTART:20241103T020000
RRULE:FREQ=YEARLY;BYDAY=1SU;BYMONTH=11
TZNAME:EST
TZOFFSETFROM:-0400
TZOFFSETTO:-0500
END:STANDARD
BEGIN:DAYLIGHT
DTSTART:20250309T020000
RRULE:FREQ=YEARLY;BYDAY=2SU;BYMONTH=3
TZNAME:EDT
TZOFFSETFROM:-0500
TZOFFSETTO:-0400
END:DAYLIGHT
END:VTIMEZONE
BEGIN:VEVENT
DESCRIPTION:2019 Annual Meeting by the American Academy of Neurology\n\nTi
 tle: MS Epidemiology and Risk Stratification\n\nAccess URL: https://www.a
 an.com/msa/Public/Events/GetEventURL/7865\n\nLearn More About This Event:
  https://www.aan.com/msa/Public/Events/Details/7865
DTEND;TZID=Eastern Standard Time:20190509T150000
DTSTAMP:20260424T054000Z
DTSTART;TZID=Eastern Standard Time:20190509T130000
LOCATION:https://www.aan.com/msa/Public/Events/GetEventURL/7865
SEQUENCE:0
SUMMARY:AAN: MS Epidemiology and Risk Stratification
UID:62618e5e-a9c2-43ff-a260-e63b824929ed
END:VEVENT
END:VCALENDAR
