BEGIN:VCALENDAR
PRODID:-//github.com/rianjs/ical.net//NONSGML ical.net 4.0//EN
VERSION:2.0
BEGIN:VTIMEZONE
TZID:Eastern Standard Time
X-LIC-LOCATION:America/New_York
BEGIN:STANDARD
DTSTART:20241103T020000
RRULE:FREQ=YEARLY;BYDAY=1SU;BYMONTH=11
TZNAME:EST
TZOFFSETFROM:-0400
TZOFFSETTO:-0500
END:STANDARD
BEGIN:DAYLIGHT
DTSTART:20250309T020000
RRULE:FREQ=YEARLY;BYDAY=2SU;BYMONTH=3
TZNAME:EDT
TZOFFSETFROM:-0500
TZOFFSETTO:-0400
END:DAYLIGHT
END:VTIMEZONE
BEGIN:VEVENT
DESCRIPTION:2019 Annual Meeting by the American Academy of Neurology\n\nTi
 tle: Poster Session 2\n\nAccess URL: https://www.aan.com/msa/Public/Event
 s/GetEventURL/7872\n\nLearn More About This Event: https://www.aan.com/ms
 a/Public/Events/Details/7872
DTEND;TZID=Eastern Standard Time:20190506T183000
DTSTAMP:20260424T054036Z
DTSTART;TZID=Eastern Standard Time:20190506T113000
LOCATION:https://www.aan.com/msa/Public/Events/GetEventURL/7872
SEQUENCE:0
SUMMARY:AAN: Poster Session 2
UID:fb455df5-2d5b-4c4e-a3e2-14d4eb9e780f
END:VEVENT
END:VCALENDAR
