BEGIN:VCALENDAR
PRODID:-//github.com/rianjs/ical.net//NONSGML ical.net 4.0//EN
VERSION:2.0
BEGIN:VEVENT
DESCRIPTION:2006 Annual Meeting by the American Academy of Neurology\n\nTi
 tle: Peripheral Nerve: Neurogenetics and Biology\n\nAccess URL: https://w
 ww.aan.com/msa/Public/Events/GetEventURL/788\n\nLearn More About This Eve
 nt: https://www.aan.com/msa/Public/Events/Details/788
DTEND:20060404T153000
DTSTAMP:20260424T122018Z
DTSTART:20060404T140000
LOCATION:https://www.aan.com/msa/Public/Events/GetEventURL/788
SEQUENCE:0
SUMMARY:AAN: Peripheral Nerve: Neurogenetics and Biology
UID:8b1b0ea0-8108-4c69-91e4-d2053f86d22a
END:VEVENT
END:VCALENDAR
