BEGIN:VCALENDAR
PRODID:-//github.com/rianjs/ical.net//NONSGML ical.net 4.0//EN
VERSION:2.0
BEGIN:VTIMEZONE
TZID:Eastern Standard Time
X-LIC-LOCATION:America/New_York
BEGIN:STANDARD
DTSTART:20241103T020000
RRULE:FREQ=YEARLY;BYDAY=1SU;BYMONTH=11
TZNAME:EST
TZOFFSETFROM:-0400
TZOFFSETTO:-0500
END:STANDARD
BEGIN:DAYLIGHT
DTSTART:20250309T020000
RRULE:FREQ=YEARLY;BYDAY=2SU;BYMONTH=3
TZNAME:EDT
TZOFFSETFROM:-0500
TZOFFSETTO:-0400
END:DAYLIGHT
END:VTIMEZONE
BEGIN:VEVENT
DESCRIPTION:2019 Annual Meeting by the American Academy of Neurology\n\nTi
 tle: 5k Run/1K Walk for Brain Research\n\nDescription: Registration Requi
 red. The 5k Run/1k Walk for Brain Research is an engaging event for atten
 dees along the scenic and historic row houses of Philadelphia\, all with 
 the goal of raising funds for brain research. \n\nLearn More About This E
 vent: https://www.aan.com/msa/Public/Events/Details/7882
DTEND;TZID=Eastern Standard Time:20190507T073000
DTSTAMP:20260424T053922Z
DTSTART;TZID=Eastern Standard Time:20190507T063000
LOCATION:https://www.aan.com/msa/Public/Events/GetEventURL/7882
SEQUENCE:0
SUMMARY:AAN: 5k Run/1K Walk for Brain Research
UID:8de5c51b-31c3-4e0b-af3b-89a50604e14a
END:VEVENT
END:VCALENDAR
