BEGIN:VCALENDAR
PRODID:-//github.com/rianjs/ical.net//NONSGML ical.net 4.0//EN
VERSION:2.0
BEGIN:VEVENT
DESCRIPTION:2006 Annual Meeting by the American Academy of Neurology\n\nTi
 tle: Antiepileptic Drug Therapy\n\nAccess URL: https://www.aan.com/msa/Pu
 blic/Events/GetEventURL/789\n\nLearn More About This Event: https://www.a
 an.com/msa/Public/Events/Details/789
DTEND:20060404T153000
DTSTAMP:20260424T122032Z
DTSTART:20060404T140000
LOCATION:https://www.aan.com/msa/Public/Events/GetEventURL/789
SEQUENCE:0
SUMMARY:AAN: Antiepileptic Drug Therapy
UID:ca9c4fb9-778b-4f5e-8136-c5466024bac2
END:VEVENT
END:VCALENDAR
