BEGIN:VCALENDAR
PRODID:-//github.com/rianjs/ical.net//NONSGML ical.net 4.0//EN
VERSION:2.0
BEGIN:VEVENT
DESCRIPTION:2016 Fall Conference by the American Academy of Neurology\n\nT
 itle: Practice Management V: How Coding Can Improve Your Value\n\nAccess 
 URL: https://www.aan.com/msa/Public/Events/GetEventURL/79\n\nLearn More A
 bout This Event: https://www.aan.com/msa/Public/Events/Details/79
DTEND:20161015T093000
DTSTAMP:20260424T053900Z
DTSTART:20161015T080000
LOCATION:https://www.aan.com/msa/Public/Events/GetEventURL/79
SEQUENCE:0
SUMMARY:AAN: Practice Management V: How Coding Can Improve Your Value
UID:6ec180ea-3494-4c5f-b82c-f0ace1b2d1a9
END:VEVENT
END:VCALENDAR
