BEGIN:VCALENDAR
PRODID:-//github.com/rianjs/ical.net//NONSGML ical.net 4.0//EN
VERSION:2.0
BEGIN:VEVENT
DESCRIPTION:2006 Annual Meeting by the American Academy of Neurology\n\nTi
 tle: Multiple Sclerosis: Imaging I\n\nAccess URL: https://www.aan.com/msa
 /Public/Events/GetEventURL/790\n\nLearn More About This Event: https://ww
 w.aan.com/msa/Public/Events/Details/790
DTEND:20060404T153000
DTSTAMP:20260424T122032Z
DTSTART:20060404T140000
LOCATION:https://www.aan.com/msa/Public/Events/GetEventURL/790
SEQUENCE:0
SUMMARY:AAN: Multiple Sclerosis: Imaging I
UID:55f75d27-f910-4c82-9bc2-167270380e7d
END:VEVENT
END:VCALENDAR
