BEGIN:VCALENDAR
PRODID:-//github.com/rianjs/ical.net//NONSGML ical.net 4.0//EN
VERSION:2.0
BEGIN:VEVENT
DESCRIPTION:2006 Annual Meeting by the American Academy of Neurology\n\nTi
 tle: Aging and Dementia: Imaging I\n\nAccess URL: https://www.aan.com/msa
 /Public/Events/GetEventURL/791\n\nLearn More About This Event: https://ww
 w.aan.com/msa/Public/Events/Details/791
DTEND:20060404T170000
DTSTAMP:20260424T122035Z
DTSTART:20060404T154500
LOCATION:https://www.aan.com/msa/Public/Events/GetEventURL/791
SEQUENCE:0
SUMMARY:AAN: Aging and Dementia: Imaging I
UID:44afed07-2e03-4311-8f14-908536a729d6
END:VEVENT
END:VCALENDAR
