BEGIN:VCALENDAR
PRODID:-//github.com/rianjs/ical.net//NONSGML ical.net 4.0//EN
VERSION:2.0
BEGIN:VTIMEZONE
TZID:Eastern Standard Time
X-LIC-LOCATION:America/New_York
BEGIN:STANDARD
DTSTART:20241103T020000
RRULE:FREQ=YEARLY;BYDAY=1SU;BYMONTH=11
TZNAME:EST
TZOFFSETFROM:-0400
TZOFFSETTO:-0500
END:STANDARD
BEGIN:DAYLIGHT
DTSTART:20250309T020000
RRULE:FREQ=YEARLY;BYDAY=2SU;BYMONTH=3
TZNAME:EDT
TZOFFSETFROM:-0500
TZOFFSETTO:-0400
END:DAYLIGHT
END:VTIMEZONE
BEGIN:VEVENT
DESCRIPTION:2019 Annual Meeting by the American Academy of Neurology\n\nTi
 tle: What Can the AAN’s Compensation and Productivity Survey Do for You?\
 n\nAccess URL: https://www.aan.com/msa/Public/Events/GetEventURL/7918\n\n
 Learn More About This Event: https://www.aan.com/msa/Public/Events/Detail
 s/7918
DTEND;TZID=Eastern Standard Time:20190507T150000
DTSTAMP:20260424T053954Z
DTSTART;TZID=Eastern Standard Time:20190507T143000
LOCATION:https://www.aan.com/msa/Public/Events/GetEventURL/7918
SEQUENCE:0
SUMMARY:AAN: What Can the AAN’s Compensation and Productivity Survey Do fo
 r You?
UID:0e1c86c9-94eb-4030-bc8d-b7b3ab3ff4f7
END:VEVENT
END:VCALENDAR
