BEGIN:VCALENDAR
PRODID:-//github.com/rianjs/ical.net//NONSGML ical.net 4.0//EN
VERSION:2.0
BEGIN:VEVENT
DESCRIPTION:2006 Annual Meeting by the American Academy of Neurology\n\nTi
 tle: Multiple Sclerosis: Clinical Trials II\n\nAccess URL: https://www.aa
 n.com/msa/Public/Events/GetEventURL/792\n\nLearn More About This Event: h
 ttps://www.aan.com/msa/Public/Events/Details/792
DTEND:20060404T170000
DTSTAMP:20260424T121916Z
DTSTART:20060404T154500
LOCATION:https://www.aan.com/msa/Public/Events/GetEventURL/792
SEQUENCE:0
SUMMARY:AAN: Multiple Sclerosis: Clinical Trials II
UID:a6d96cf9-f508-4c88-9f24-21afb0dfeafc
END:VEVENT
END:VCALENDAR
