BEGIN:VCALENDAR
PRODID:-//github.com/rianjs/ical.net//NONSGML ical.net 4.0//EN
VERSION:2.0
BEGIN:VTIMEZONE
TZID:Eastern Standard Time
X-LIC-LOCATION:America/New_York
BEGIN:STANDARD
DTSTART:20241103T020000
RRULE:FREQ=YEARLY;BYDAY=1SU;BYMONTH=11
TZNAME:EST
TZOFFSETFROM:-0400
TZOFFSETTO:-0500
END:STANDARD
BEGIN:DAYLIGHT
DTSTART:20250309T020000
RRULE:FREQ=YEARLY;BYDAY=2SU;BYMONTH=3
TZNAME:EDT
TZOFFSETFROM:-0500
TZOFFSETTO:-0400
END:DAYLIGHT
END:VTIMEZONE
BEGIN:VEVENT
DESCRIPTION:2019 Annual Meeting by the American Academy of Neurology\n\nTi
 tle: Choosing a Career in Neuro-oncology \n\nAccess URL: https://www.aan.
 com/msa/Public/Events/GetEventURL/7923\n\nLearn More About This Event: ht
 tps://www.aan.com/msa/Public/Events/Details/7923
DTEND;TZID=Eastern Standard Time:20190510T143000
DTSTAMP:20260424T053955Z
DTSTART;TZID=Eastern Standard Time:20190510T140000
LOCATION:https://www.aan.com/msa/Public/Events/GetEventURL/7923
SEQUENCE:0
SUMMARY:AAN: Choosing a Career in Neuro-oncology
UID:70547b25-69ee-494b-b5c5-3d0f3667d6a4
END:VEVENT
END:VCALENDAR
