BEGIN:VCALENDAR
PRODID:-//github.com/rianjs/ical.net//NONSGML ical.net 4.0//EN
VERSION:2.0
BEGIN:VEVENT
DESCRIPTION:2006 Annual Meeting by the American Academy of Neurology\n\nTi
 tle: Parkinson's Disease: Non-Motor Complications\n\nAccess URL: https://
 www.aan.com/msa/Public/Events/GetEventURL/793\n\nLearn More About This Ev
 ent: https://www.aan.com/msa/Public/Events/Details/793
DTEND:20060404T170000
DTSTAMP:20260424T121901Z
DTSTART:20060404T154500
LOCATION:https://www.aan.com/msa/Public/Events/GetEventURL/793
SEQUENCE:0
SUMMARY:AAN: Parkinson's Disease: Non-Motor Complications
UID:34941475-4d51-4064-970f-5e9f5f1dc980
END:VEVENT
END:VCALENDAR
