BEGIN:VCALENDAR
PRODID:-//github.com/rianjs/ical.net//NONSGML ical.net 4.0//EN
VERSION:2.0
BEGIN:VEVENT
DESCRIPTION:2006 Annual Meeting by the American Academy of Neurology\n\nTi
 tle: Stroke Risk Factors\n\nAccess URL: https://www.aan.com/msa/Public/Ev
 ents/GetEventURL/794\n\nLearn More About This Event: https://www.aan.com/
 msa/Public/Events/Details/794
DTEND:20060404T170000
DTSTAMP:20260424T121901Z
DTSTART:20060404T154500
LOCATION:https://www.aan.com/msa/Public/Events/GetEventURL/794
SEQUENCE:0
SUMMARY:AAN: Stroke Risk Factors
UID:fb991f46-a06d-47fd-808b-d0a34a8a54fe
END:VEVENT
END:VCALENDAR
