BEGIN:VCALENDAR
PRODID:-//github.com/rianjs/ical.net//NONSGML ical.net 4.0//EN
VERSION:2.0
BEGIN:VEVENT
DESCRIPTION:2006 Annual Meeting by the American Academy of Neurology\n\nTi
 tle: Neurogenetics\n\nAccess URL: https://www.aan.com/msa/Public/Events/G
 etEventURL/795\n\nLearn More About This Event: https://www.aan.com/msa/Pu
 blic/Events/Details/795
DTEND:20060404T170000
DTSTAMP:20260424T121916Z
DTSTART:20060404T154500
LOCATION:https://www.aan.com/msa/Public/Events/GetEventURL/795
SEQUENCE:0
SUMMARY:AAN: Neurogenetics
UID:b58c1142-c23b-46f3-906a-a08237989e75
END:VEVENT
END:VCALENDAR
