BEGIN:VCALENDAR
PRODID:-//github.com/rianjs/ical.net//NONSGML ical.net 4.0//EN
VERSION:2.0
BEGIN:VTIMEZONE
TZID:Eastern Standard Time
X-LIC-LOCATION:America/New_York
BEGIN:STANDARD
DTSTART:20241103T020000
RRULE:FREQ=YEARLY;BYDAY=1SU;BYMONTH=11
TZNAME:EST
TZOFFSETFROM:-0400
TZOFFSETTO:-0500
END:STANDARD
BEGIN:DAYLIGHT
DTSTART:20250309T020000
RRULE:FREQ=YEARLY;BYDAY=2SU;BYMONTH=3
TZNAME:EDT
TZOFFSETFROM:-0500
TZOFFSETTO:-0400
END:DAYLIGHT
END:VTIMEZONE
BEGIN:VEVENT
DESCRIPTION:2019 Annual Meeting by the American Academy of Neurology\n\nTi
 tle: Navigating a Career in Academics\n\nAccess URL: https://www.aan.com/
 msa/Public/Events/GetEventURL/7958\n\nLearn More About This Event: https:
 //www.aan.com/msa/Public/Events/Details/7958
DTEND;TZID=Eastern Standard Time:20190505T144500
DTSTAMP:20260424T054000Z
DTSTART;TZID=Eastern Standard Time:20190505T140000
LOCATION:https://www.aan.com/msa/Public/Events/GetEventURL/7958
SEQUENCE:0
SUMMARY:AAN: Navigating a Career in Academics
UID:2755f106-dfbb-48a5-b083-cee12eac2833
END:VEVENT
END:VCALENDAR
