BEGIN:VCALENDAR
PRODID:-//github.com/rianjs/ical.net//NONSGML ical.net 4.0//EN
VERSION:2.0
BEGIN:VTIMEZONE
TZID:Eastern Standard Time
X-LIC-LOCATION:America/New_York
BEGIN:STANDARD
DTSTART:20241103T020000
RRULE:FREQ=YEARLY;BYDAY=1SU;BYMONTH=11
TZNAME:EST
TZOFFSETFROM:-0400
TZOFFSETTO:-0500
END:STANDARD
BEGIN:DAYLIGHT
DTSTART:20250309T020000
RRULE:FREQ=YEARLY;BYDAY=2SU;BYMONTH=3
TZNAME:EDT
TZOFFSETFROM:-0500
TZOFFSETTO:-0400
END:DAYLIGHT
END:VTIMEZONE
BEGIN:VEVENT
DESCRIPTION:2019 Annual Meeting by the American Academy of Neurology\n\nTi
 tle: AUPN Clerkship Directors Workshop\n\nDescription: The 2019 Clerkship
  Directors workshop will have a point/counterpoint format. The workshop f
 aculty will take strong opposing positions on various “controversies” rel
 ated to practical aspects of clerkship structure. After the faculty membe
 rs have presented their arguments (as forcefully as possible in 5 minutes
  or less) the workshop participants will discuss the topic in small group
 s. After 15 minutes\, the small groups will report their conclusions. The
 re will be 15 minutes of large group discussion and concluding comments b
 efore proceeding to the next topic of controversy.\n\nLearn More About Th
 is Event: https://www.aan.com/msa/Public/Events/Details/7965
DTEND;TZID=Eastern Standard Time:20190504T153000
DTSTAMP:20260424T053924Z
DTSTART;TZID=Eastern Standard Time:20190504T130000
LOCATION:https://www.aan.com/msa/Public/Events/GetEventURL/7965
SEQUENCE:0
SUMMARY:AAN: AUPN Clerkship Directors Workshop
UID:49294ed6-31d9-4e0e-b952-7b5a9341279c
END:VEVENT
END:VCALENDAR
