BEGIN:VCALENDAR
PRODID:-//github.com/rianjs/ical.net//NONSGML ical.net 4.0//EN
VERSION:2.0
BEGIN:VTIMEZONE
TZID:Eastern Standard Time
X-LIC-LOCATION:America/New_York
BEGIN:STANDARD
DTSTART:20241103T020000
RRULE:FREQ=YEARLY;BYDAY=1SU;BYMONTH=11
TZNAME:EST
TZOFFSETFROM:-0400
TZOFFSETTO:-0500
END:STANDARD
BEGIN:DAYLIGHT
DTSTART:20250309T020000
RRULE:FREQ=YEARLY;BYDAY=2SU;BYMONTH=3
TZNAME:EDT
TZOFFSETFROM:-0500
TZOFFSETTO:-0400
END:DAYLIGHT
END:VTIMEZONE
BEGIN:VEVENT
DESCRIPTION:2019 Annual Meeting by the American Academy of Neurology\n\nTi
 tle: AUPN New Chair Luncheon\n\nDescription: The AUPN will hold a New Cha
 irs Mentoring Lunch where senior mentor Chairs (3+ years’ experience) wil
 l meet with new Chairs (0-3 years’ experience) to advise and help with th
 e transition into their new role. The focus of the lunch will be a genera
 l discussion on understanding what the new Chairs believe would be of val
 ue to them\, as well as answering any specific questions.\n\nLearn More A
 bout This Event: https://www.aan.com/msa/Public/Events/Details/7966
DTEND;TZID=Eastern Standard Time:20190505T141500
DTSTAMP:20260424T054003Z
DTSTART;TZID=Eastern Standard Time:20190505T121500
LOCATION:https://www.aan.com/msa/Public/Events/GetEventURL/7966
SEQUENCE:0
SUMMARY:AAN: AUPN New Chair Luncheon
UID:8d10706c-2ce3-4591-a2ab-97f61cd22c79
END:VEVENT
END:VCALENDAR
