BEGIN:VCALENDAR
PRODID:-//github.com/rianjs/ical.net//NONSGML ical.net 4.0//EN
VERSION:2.0
BEGIN:VEVENT
DESCRIPTION:2006 Annual Meeting by the American Academy of Neurology\n\nTi
 tle: Headache: Prevention\n\nAccess URL: https://www.aan.com/msa/Public/E
 vents/GetEventURL/797\n\nLearn More About This Event: https://www.aan.com
 /msa/Public/Events/Details/797
DTEND:20060404T170000
DTSTAMP:20260424T122035Z
DTSTART:20060404T154500
LOCATION:https://www.aan.com/msa/Public/Events/GetEventURL/797
SEQUENCE:0
SUMMARY:AAN: Headache: Prevention
UID:1bb0f4ec-b526-4f71-970e-63b314acef96
END:VEVENT
END:VCALENDAR
