BEGIN:VCALENDAR
PRODID:-//github.com/rianjs/ical.net//NONSGML ical.net 4.0//EN
VERSION:2.0
BEGIN:VTIMEZONE
TZID:Eastern Standard Time
X-LIC-LOCATION:America/New_York
BEGIN:STANDARD
DTSTART:20241103T020000
RRULE:FREQ=YEARLY;BYDAY=1SU;BYMONTH=11
TZNAME:EST
TZOFFSETFROM:-0400
TZOFFSETTO:-0500
END:STANDARD
BEGIN:DAYLIGHT
DTSTART:20250309T020000
RRULE:FREQ=YEARLY;BYDAY=2SU;BYMONTH=3
TZNAME:EDT
TZOFFSETFROM:-0500
TZOFFSETTO:-0400
END:DAYLIGHT
END:VTIMEZONE
BEGIN:VEVENT
DESCRIPTION:2019 Annual Meeting by the American Academy of Neurology\n\nTi
 tle: Introduction to Acupuncture II - Evidence-based Applications for Acu
 puncture in the Treatment of Painful Neurologic Conditions\n\nAccess URL:
  https://www.aan.com/msa/Public/Events/GetEventURL/7976\n\nLearn More Abo
 ut This Event: https://www.aan.com/msa/Public/Events/Details/7976
DTEND;TZID=Eastern Standard Time:20190505T163000
DTSTAMP:20260424T053921Z
DTSTART;TZID=Eastern Standard Time:20190505T154500
LOCATION:https://www.aan.com/msa/Public/Events/GetEventURL/7976
SEQUENCE:0
SUMMARY:AAN: Introduction to Acupuncture II - Evidence-based Applications 
 for Acupuncture in the Treatment of Painful Neurologic Conditions
UID:05a8c9a6-8933-4b53-8c52-0164fb01b040
END:VEVENT
END:VCALENDAR
