BEGIN:VCALENDAR
PRODID:-//github.com/rianjs/ical.net//NONSGML ical.net 4.0//EN
VERSION:2.0
BEGIN:VEVENT
DESCRIPTION:2006 Annual Meeting by the American Academy of Neurology\n\nTi
 tle: Anterior Horn: Basic Science\n\nAccess URL: https://www.aan.com/msa/
 Public/Events/GetEventURL/798\n\nLearn More About This Event: https://www
 .aan.com/msa/Public/Events/Details/798
DTEND:20060404T170000
DTSTAMP:20260424T122036Z
DTSTART:20060404T154500
LOCATION:https://www.aan.com/msa/Public/Events/GetEventURL/798
SEQUENCE:0
SUMMARY:AAN: Anterior Horn: Basic Science
UID:5b08076c-2211-4e18-ae90-33d49301a415
END:VEVENT
END:VCALENDAR
