BEGIN:VCALENDAR
PRODID:-//github.com/rianjs/ical.net//NONSGML ical.net 4.0//EN
VERSION:2.0
BEGIN:VEVENT
DESCRIPTION:2016 Fall Conference by the American Academy of Neurology\n\nT
 itle: Neurology Update IV\n\nAccess URL: https://www.aan.com/msa/Public/E
 vents/GetEventURL/80\n\nLearn More About This Event: https://www.aan.com/
 msa/Public/Events/Details/80
DTEND:20161015T113000
DTSTAMP:20260424T053925Z
DTSTART:20161015T100000
LOCATION:https://www.aan.com/msa/Public/Events/GetEventURL/80
SEQUENCE:0
SUMMARY:AAN: Neurology Update IV
UID:0be7e00b-038b-4ccb-9302-0d426c2d3208
END:VEVENT
END:VCALENDAR
