BEGIN:VCALENDAR
PRODID:-//github.com/rianjs/ical.net//NONSGML ical.net 4.0//EN
VERSION:2.0
BEGIN:VEVENT
DESCRIPTION:2006 Annual Meeting by the American Academy of Neurology\n\nTi
 tle: Multiple Sclerosis: Imaging II\n\nAccess URL: https://www.aan.com/ms
 a/Public/Events/GetEventURL/802\n\nLearn More About This Event: https://w
 ww.aan.com/msa/Public/Events/Details/802
DTEND:20060405T153000
DTSTAMP:20260424T121919Z
DTSTART:20060405T140000
LOCATION:https://www.aan.com/msa/Public/Events/GetEventURL/802
SEQUENCE:0
SUMMARY:AAN: Multiple Sclerosis: Imaging II
UID:eb8586e0-eeb0-41b4-aa4b-5eeef4ab0be5
END:VEVENT
END:VCALENDAR
