BEGIN:VCALENDAR
PRODID:-//github.com/rianjs/ical.net//NONSGML ical.net 4.0//EN
VERSION:2.0
BEGIN:VEVENT
DESCRIPTION:2006 Annual Meeting by the American Academy of Neurology\n\nTi
 tle: Intra- and Extracranial Atherosclerotic Disease\n\nAccess URL: https
 ://www.aan.com/msa/Public/Events/GetEventURL/804\n\nLearn More About This
  Event: https://www.aan.com/msa/Public/Events/Details/804
DTEND:20060405T153000
DTSTAMP:20260424T121915Z
DTSTART:20060405T140000
LOCATION:https://www.aan.com/msa/Public/Events/GetEventURL/804
SEQUENCE:0
SUMMARY:AAN: Intra- and Extracranial Atherosclerotic Disease
UID:ea0dada1-e1bb-48b6-b841-9473c6958788
END:VEVENT
END:VCALENDAR
