BEGIN:VCALENDAR
PRODID:-//github.com/rianjs/ical.net//NONSGML ical.net 4.0//EN
VERSION:2.0
BEGIN:VTIMEZONE
TZID:Eastern Standard Time
X-LIC-LOCATION:America/New_York
BEGIN:STANDARD
DTSTART:20241103T020000
RRULE:FREQ=YEARLY;BYDAY=1SU;BYMONTH=11
TZNAME:EST
TZOFFSETFROM:-0400
TZOFFSETTO:-0500
END:STANDARD
BEGIN:DAYLIGHT
DTSTART:20250309T020000
RRULE:FREQ=YEARLY;BYDAY=2SU;BYMONTH=3
TZNAME:EDT
TZOFFSETFROM:-0500
TZOFFSETTO:-0400
END:DAYLIGHT
END:VTIMEZONE
BEGIN:VEVENT
DESCRIPTION:2019 Annual Meeting by the American Academy of Neurology\n\nTi
 tle: Genetic Muscle Disorders\n\nAccess URL: https://www.aan.com/msa/Publ
 ic/Events/GetEventURL/8041\n\nLearn More About This Event: https://www.aa
 n.com/msa/Public/Events/Details/8041
DTEND;TZID=Eastern Standard Time:20190506T173000
DTSTAMP:20260424T053900Z
DTSTART;TZID=Eastern Standard Time:20190506T153000
LOCATION:https://www.aan.com/msa/Public/Events/GetEventURL/8041
SEQUENCE:0
SUMMARY:AAN: Genetic Muscle Disorders
UID:8a725817-c051-4834-a106-c6bb8c405682
END:VEVENT
END:VCALENDAR
