BEGIN:VCALENDAR
PRODID:-//github.com/rianjs/ical.net//NONSGML ical.net 4.0//EN
VERSION:2.0
BEGIN:VEVENT
DESCRIPTION:2006 Annual Meeting by the American Academy of Neurology\n\nTi
 tle: History\n\nAccess URL: https://www.aan.com/msa/Public/Events/GetEven
 tURL/805\n\nLearn More About This Event: https://www.aan.com/msa/Public/E
 vents/Details/805
DTEND:20060404T153000
DTSTAMP:20260424T122036Z
DTSTART:20060404T140000
LOCATION:https://www.aan.com/msa/Public/Events/GetEventURL/805
SEQUENCE:0
SUMMARY:AAN: History
UID:833e5109-9875-43c3-8110-9d65bec35d71
END:VEVENT
END:VCALENDAR
