BEGIN:VCALENDAR
PRODID:-//github.com/rianjs/ical.net//NONSGML ical.net 4.0//EN
VERSION:2.0
BEGIN:VEVENT
DESCRIPTION:2006 Annual Meeting by the American Academy of Neurology\n\nTi
 tle: Acute Stroke Evaluation and Treatment\n\nAccess URL: https://www.aan
 .com/msa/Public/Events/GetEventURL/806\n\nLearn More About This Event: ht
 tps://www.aan.com/msa/Public/Events/Details/806
DTEND:20060405T153000
DTSTAMP:20260424T121919Z
DTSTART:20060405T140000
LOCATION:https://www.aan.com/msa/Public/Events/GetEventURL/806
SEQUENCE:0
SUMMARY:AAN: Acute Stroke Evaluation and Treatment
UID:68277496-7466-4f10-951b-0217209a9a57
END:VEVENT
END:VCALENDAR
