BEGIN:VCALENDAR
PRODID:-//github.com/rianjs/ical.net//NONSGML ical.net 4.0//EN
VERSION:2.0
BEGIN:VTIMEZONE
TZID:Eastern Standard Time
X-LIC-LOCATION:America/New_York
BEGIN:STANDARD
DTSTART:20241103T020000
RRULE:FREQ=YEARLY;BYDAY=1SU;BYMONTH=11
TZNAME:EST
TZOFFSETFROM:-0400
TZOFFSETTO:-0500
END:STANDARD
BEGIN:DAYLIGHT
DTSTART:20250309T020000
RRULE:FREQ=YEARLY;BYDAY=2SU;BYMONTH=3
TZNAME:EDT
TZOFFSETFROM:-0500
TZOFFSETTO:-0400
END:DAYLIGHT
END:VTIMEZONE
BEGIN:VEVENT
DESCRIPTION:2019 Annual Meeting by the American Academy of Neurology\n\nTi
 tle: Streamlining the Office Visit for Mild TBI Patients\n\nAccess URL: h
 ttps://www.aan.com/msa/Public/Events/GetEventURL/8079\n\nLearn More About
  This Event: https://www.aan.com/msa/Public/Events/Details/8079
DTEND;TZID=Eastern Standard Time:20190506T140000
DTSTAMP:20260424T053926Z
DTSTART;TZID=Eastern Standard Time:20190506T133000
LOCATION:https://www.aan.com/msa/Public/Events/GetEventURL/8079
SEQUENCE:0
SUMMARY:AAN: Streamlining the Office Visit for Mild TBI Patients
UID:6c2dd95f-fc15-44ae-8b2c-f3433991884e
END:VEVENT
END:VCALENDAR
