BEGIN:VCALENDAR
PRODID:-//github.com/rianjs/ical.net//NONSGML ical.net 4.0//EN
VERSION:2.0
BEGIN:VTIMEZONE
TZID:Eastern Standard Time
X-LIC-LOCATION:America/New_York
BEGIN:STANDARD
DTSTART:20241103T020000
RRULE:FREQ=YEARLY;BYDAY=1SU;BYMONTH=11
TZNAME:EST
TZOFFSETFROM:-0400
TZOFFSETTO:-0500
END:STANDARD
BEGIN:DAYLIGHT
DTSTART:20250309T020000
RRULE:FREQ=YEARLY;BYDAY=2SU;BYMONTH=3
TZNAME:EDT
TZOFFSETFROM:-0500
TZOFFSETTO:-0400
END:DAYLIGHT
END:VTIMEZONE
BEGIN:VEVENT
DESCRIPTION:2019 Annual Meeting by the American Academy of Neurology\n\nTi
 tle: Payer Summit\n\nDescription: Test\n\nLearn More About This Event: ht
 tps://www.aan.com/msa/Public/Events/Details/8083
DTEND;TZID=Eastern Standard Time:20190506T143000
DTSTAMP:20260424T053859Z
DTSTART;TZID=Eastern Standard Time:20190506T123000
LOCATION:https://www.aan.com/msa/Public/Events/GetEventURL/8083
SEQUENCE:0
SUMMARY:AAN: Payer Summit
UID:4c987f32-538f-4f1e-9093-dff590e58cb2
END:VEVENT
END:VCALENDAR
