BEGIN:VCALENDAR
PRODID:-//github.com/rianjs/ical.net//NONSGML ical.net 4.0//EN
VERSION:2.0
BEGIN:VEVENT
DESCRIPTION:2006 Annual Meeting by the American Academy of Neurology\n\nTi
 tle: Multiple Sclerosis: Animal Models\n\nAccess URL: https://www.aan.com
 /msa/Public/Events/GetEventURL/809\n\nLearn More About This Event: https:
 //www.aan.com/msa/Public/Events/Details/809
DTEND:20060405T153000
DTSTAMP:20260424T121901Z
DTSTART:20060405T140000
LOCATION:https://www.aan.com/msa/Public/Events/GetEventURL/809
SEQUENCE:0
SUMMARY:AAN: Multiple Sclerosis: Animal Models
UID:006607af-c387-4e85-8766-44c920469504
END:VEVENT
END:VCALENDAR
