BEGIN:VCALENDAR
PRODID:-//github.com/rianjs/ical.net//NONSGML ical.net 4.0//EN
VERSION:2.0
BEGIN:VEVENT
DESCRIPTION:2016 Fall Conference by the American Academy of Neurology\n\nT
 itle: Practice Management VI: Succeeding in an ACO\n\nAccess URL: https:/
 /www.aan.com/msa/Public/Events/GetEventURL/81\n\nLearn More About This Ev
 ent: https://www.aan.com/msa/Public/Events/Details/81
DTEND:20161015T113000
DTSTAMP:20260424T053926Z
DTSTART:20161015T100000
LOCATION:https://www.aan.com/msa/Public/Events/GetEventURL/81
SEQUENCE:0
SUMMARY:AAN: Practice Management VI: Succeeding in an ACO
UID:8bf76a82-39d1-4418-b7ac-646733ab2a95
END:VEVENT
END:VCALENDAR
