BEGIN:VCALENDAR
PRODID:-//github.com/rianjs/ical.net//NONSGML ical.net 4.0//EN
VERSION:2.0
BEGIN:VEVENT
DESCRIPTION:2006 Annual Meeting by the American Academy of Neurology\n\nTi
 tle: Movement Disorders: Deep Brain Stimulation\n\nAccess URL: https://ww
 w.aan.com/msa/Public/Events/GetEventURL/810\n\nLearn More About This Even
 t: https://www.aan.com/msa/Public/Events/Details/810
DTEND:20060405T153000
DTSTAMP:20260424T121915Z
DTSTART:20060405T140000
LOCATION:https://www.aan.com/msa/Public/Events/GetEventURL/810
SEQUENCE:0
SUMMARY:AAN: Movement Disorders: Deep Brain Stimulation
UID:1a3348f1-1c09-477c-bf39-aa36825cc5e5
END:VEVENT
END:VCALENDAR
