BEGIN:VCALENDAR
PRODID:-//github.com/rianjs/ical.net//NONSGML ical.net 4.0//EN
VERSION:2.0
BEGIN:VTIMEZONE
TZID:Eastern Standard Time
X-LIC-LOCATION:America/New_York
BEGIN:STANDARD
DTSTART:20241103T020000
RRULE:FREQ=YEARLY;BYDAY=1SU;BYMONTH=11
TZNAME:EST
TZOFFSETFROM:-0400
TZOFFSETTO:-0500
END:STANDARD
BEGIN:DAYLIGHT
DTSTART:20250309T020000
RRULE:FREQ=YEARLY;BYDAY=2SU;BYMONTH=3
TZNAME:EDT
TZOFFSETFROM:-0500
TZOFFSETTO:-0400
END:DAYLIGHT
END:VTIMEZONE
BEGIN:VEVENT
DESCRIPTION:2019 Annual Meeting by the American Academy of Neurology\n\nTi
 tle: Perspectivas profesionales para neurólogos en los Estados Unidos y A
 mérica Latina (Professional Perspectives for Neurologists in the United S
 tates and Latin America)\n\nAccess URL: https://www.aan.com/msa/Public/Ev
 ents/GetEventURL/8124\n\nLearn More About This Event: https://www.aan.com
 /msa/Public/Events/Details/8124
DTEND;TZID=Eastern Standard Time:20190508T174500
DTSTAMP:20260424T054035Z
DTSTART;TZID=Eastern Standard Time:20190508T170000
LOCATION:https://www.aan.com/msa/Public/Events/GetEventURL/8124
SEQUENCE:0
SUMMARY:AAN: Perspectivas profesionales para neurólogos en los Estados Uni
 dos y América Latina (Professional Perspectives for Neurologists in the U
 nited States and Latin America)
UID:393eb204-93d2-4ccc-9822-28675b0a4789
END:VEVENT
END:VCALENDAR
