BEGIN:VCALENDAR
PRODID:-//github.com/rianjs/ical.net//NONSGML ical.net 4.0//EN
VERSION:2.0
BEGIN:VEVENT
DESCRIPTION:2006 Annual Meeting by the American Academy of Neurology\n\nTi
 tle: Movement Disorders: Treatment\n\nAccess URL: https://www.aan.com/msa
 /Public/Events/GetEventURL/813\n\nLearn More About This Event: https://ww
 w.aan.com/msa/Public/Events/Details/813
DTEND:20060405T170000
DTSTAMP:20260424T122117Z
DTSTART:20060405T154500
LOCATION:https://www.aan.com/msa/Public/Events/GetEventURL/813
SEQUENCE:0
SUMMARY:AAN: Movement Disorders: Treatment
UID:484821d4-2a23-4690-9ef5-192355ae7274
END:VEVENT
END:VCALENDAR
