BEGIN:VCALENDAR
PRODID:-//github.com/rianjs/ical.net//NONSGML ical.net 4.0//EN
VERSION:2.0
BEGIN:VEVENT
DESCRIPTION:2006 Annual Meeting by the American Academy of Neurology\n\nTi
 tle: Pre-Clinical Studies in Stroke\n\nAccess URL: https://www.aan.com/ms
 a/Public/Events/GetEventURL/814\n\nLearn More About This Event: https://w
 ww.aan.com/msa/Public/Events/Details/814
DTEND:20060405T170000
DTSTAMP:20260424T122352Z
DTSTART:20060405T154500
LOCATION:https://www.aan.com/msa/Public/Events/GetEventURL/814
SEQUENCE:0
SUMMARY:AAN: Pre-Clinical Studies in Stroke
UID:6320609a-b4ad-4de4-b65d-d0b6d9131ffd
END:VEVENT
END:VCALENDAR
