BEGIN:VCALENDAR
PRODID:-//github.com/rianjs/ical.net//NONSGML ical.net 4.0//EN
VERSION:2.0
BEGIN:VTIMEZONE
TZID:Eastern Standard Time
X-LIC-LOCATION:America/New_York
BEGIN:STANDARD
DTSTART:20241103T020000
RRULE:FREQ=YEARLY;BYDAY=1SU;BYMONTH=11
TZNAME:EST
TZOFFSETFROM:-0400
TZOFFSETTO:-0500
END:STANDARD
BEGIN:DAYLIGHT
DTSTART:20250309T020000
RRULE:FREQ=YEARLY;BYDAY=2SU;BYMONTH=3
TZNAME:EDT
TZOFFSETFROM:-0500
TZOFFSETTO:-0400
END:DAYLIGHT
END:VTIMEZONE
BEGIN:VEVENT
DESCRIPTION:2019 Annual Meeting by the American Academy of Neurology\n\nTi
 tle: Optimizing Communication in Difficult Patient Relationships\n\nAcces
 s URL: https://www.aan.com/msa/Public/Events/GetEventURL/8142\n\nLearn Mo
 re About This Event: https://www.aan.com/msa/Public/Events/Details/8142
DTEND;TZID=Eastern Standard Time:20190507T124500
DTSTAMP:20260424T054104Z
DTSTART;TZID=Eastern Standard Time:20190507T120000
LOCATION:https://www.aan.com/msa/Public/Events/GetEventURL/8142
SEQUENCE:0
SUMMARY:AAN: Optimizing Communication in Difficult Patient Relationships
UID:4423f5db-7e44-4bbb-9606-d434e7f9820d
END:VEVENT
END:VCALENDAR
