BEGIN:VCALENDAR
PRODID:-//github.com/rianjs/ical.net//NONSGML ical.net 4.0//EN
VERSION:2.0
BEGIN:VEVENT
DESCRIPTION:2006 Annual Meeting by the American Academy of Neurology\n\nTi
 tle: Headache: Acute and Interventional Treatment\n\nAccess URL: https://
 www.aan.com/msa/Public/Events/GetEventURL/815\n\nLearn More About This Ev
 ent: https://www.aan.com/msa/Public/Events/Details/815
DTEND:20060405T170000
DTSTAMP:20260424T121859Z
DTSTART:20060405T154500
LOCATION:https://www.aan.com/msa/Public/Events/GetEventURL/815
SEQUENCE:0
SUMMARY:AAN: Headache: Acute and Interventional Treatment
UID:16533a44-1dcf-4af5-8d79-0f93d7a884fc
END:VEVENT
END:VCALENDAR
