BEGIN:VCALENDAR
PRODID:-//github.com/rianjs/ical.net//NONSGML ical.net 4.0//EN
VERSION:2.0
BEGIN:VTIMEZONE
TZID:Eastern Standard Time
X-LIC-LOCATION:America/New_York
BEGIN:STANDARD
DTSTART:20241103T020000
RRULE:FREQ=YEARLY;BYDAY=1SU;BYMONTH=11
TZNAME:EST
TZOFFSETFROM:-0400
TZOFFSETTO:-0500
END:STANDARD
BEGIN:DAYLIGHT
DTSTART:20250309T020000
RRULE:FREQ=YEARLY;BYDAY=2SU;BYMONTH=3
TZNAME:EDT
TZOFFSETFROM:-0500
TZOFFSETTO:-0400
END:DAYLIGHT
END:VTIMEZONE
BEGIN:VEVENT
DESCRIPTION:2019 Annual Meeting by the American Academy of Neurology\n\nTi
 tle: Business Administrator Networking\n\nDescription: Connect with other
  business administrators to discuss hot topics affecting practices.  Choo
 se the table with the topic that interests you the most.  Sitting with yo
 u will be other administrators interested in the same subject.  During yo
 ur time\, you can hear about other practices successes and brainstorm way
 s to tackle the issue.\n\nLearn More About This Event: https://www.aan.co
 m/msa/Public/Events/Details/8154
DTEND;TZID=Eastern Standard Time:20190507T160000
DTSTAMP:20260424T054103Z
DTSTART;TZID=Eastern Standard Time:20190507T150000
LOCATION:https://www.aan.com/msa/Public/Events/GetEventURL/8154
SEQUENCE:0
SUMMARY:AAN: Business Administrator Networking
UID:0eb7db92-296f-47d0-90fb-e4da9b80c457
END:VEVENT
END:VCALENDAR
